BEGIN:VCALENDAR
VERSION:2.0
PRODID:-//Beta Software | Arbutus Analytics - ECPv6.8.2.1//NONSGML v1.0//EN
CALSCALE:GREGORIAN
METHOD:PUBLISH
X-WR-CALNAME:Beta Software | Arbutus Analytics
X-ORIGINAL-URL:https://betasoftware.co.za
X-WR-CALDESC:Events for Beta Software | Arbutus Analytics
REFRESH-INTERVAL;VALUE=DURATION:PT1H
X-Robots-Tag:noindex
X-PUBLISHED-TTL:PT1H
BEGIN:VTIMEZONE
TZID:Europe/Helsinki
BEGIN:DAYLIGHT
TZOFFSETFROM:+0200
TZOFFSETTO:+0300
TZNAME:EEST
DTSTART:20260329T010000
END:DAYLIGHT
BEGIN:STANDARD
TZOFFSETFROM:+0300
TZOFFSETTO:+0200
TZNAME:EET
DTSTART:20261025T010000
END:STANDARD
TZID:UTC
BEGIN:STANDARD
TZOFFSETFROM:+0000
TZOFFSETTO:+0000
TZNAME:UTC
DTSTART:20260101T000000
END:STANDARD
END:VTIMEZONE
BEGIN:VEVENT
DTSTART;TZID=Europe/Helsinki:20260304T090000
DTEND;TZID=Europe/Helsinki:20260306T160000
DTSTAMP:20260422T113710
CREATED:20260106T135644Z
LAST-MODIFIED:20260106T143526Z
UID:2455-1772614800-1772812800@betasoftware.co.za
SUMMARY:Arbutus Analyzer Plus - Introductory Training
DESCRIPTION:Certified Arbutus Trainer: Rodney Smith / Thomas Janse van Rensburg / Mandi Bouwer \n\nOverview of Arbutus Analyzer commands and functions\nUsing Arbutus to find duplicates and gaps.\nUsing quick filters and SmartSearch\nUsing date and financial functions\nComparing data tables\nRelating and joining data tables\nImporting and exporting any type of data and tables\nUsing Arbutus LowCode/NoCode workflow automation\nAudit sampling\nAdvanced pivot tables\nGraphical reporting\nHow to implement continuous auditing/monitoring\n\nTo reserve your spot\, please contact me at Mandi.Bouwer@Betasoftware.co.za.\nThe registration deadline closes 3 days before the starting date. As seats are limited to 15 attendees\, we encourage you to secure your spot at the earliest convenience.\nShould you require any further information or have specific questions regarding the training program\, please do not hesitate to contact our dedicated team. \nPlease complete this form to reserve your place on this training event.Please enable JavaScript in your browser to complete this form.Please enable JavaScript in your browser to complete this form.Name *FirstLastCompany *Email *Contact Number *Are you an Arbutus user? *YesNo		\n			Arbutus Number you\n			\n		\n		Comment or MessageSubmit
URL:https://betasoftware.co.za/training/arbutus-analyzer-introductory-training/
LOCATION:Teams Online Instructor Led\, South Africa
ORGANIZER;CN="Beta Software":MAILTO:Mandi.Bouwer@Betasoftware.co.za
END:VEVENT
BEGIN:VEVENT
DTSTART;TZID=UTC:20260311T090000
DTEND;TZID=UTC:20260313T160000
DTSTAMP:20260422T113710
CREATED:20260106T144339Z
LAST-MODIFIED:20260106T144339Z
UID:2489-1773219600-1773417600@betasoftware.co.za
SUMMARY:Arbutus Analyzer Plus Intermediate Training
DESCRIPTION:Arbutus Certified Trainer: Anton Bouwer / Thomas Janse van Rensburg \nKey Objectives for the Arbutus Analyzer Intermediate Online Training are: \n  \n\nDevelop your skills in devising an efficient data analysis plan to achieve your goals.\nRefresh your knowledge of and experience with basic Analyzer functionality .\nIdentify and apply the Analyzer functionality needed to achieve objectives.\nBreak analysis objectives into structured\, manageable steps.\nFamiliarize yourself with common data analysis tasks and scenarios.\n Identify and follow best practices.\n Create a procedure to automate analysis tests.\n\nPlease complete this form to reserve your place on this training event.Please enable JavaScript in your browser to complete this form.Please enable JavaScript in your browser to complete this form.Name *FirstLastCompany *		\n			an or Email\n			\n		\n		Email *Contact Number *Are you an Arbutus user? *YesNoComment or MessageSubmit
URL:https://betasoftware.co.za/training/arbutus-analyzer-plus-intermediate-training-8/
LOCATION:Teams Online Instructor Led\, South Africa
ORGANIZER;CN="Beta Software":MAILTO:Mandi.Bouwer@Betasoftware.co.za
END:VEVENT
BEGIN:VEVENT
DTSTART;TZID=UTC:20260318T090000
DTEND;TZID=UTC:20260320T160000
DTSTAMP:20260422T113710
CREATED:20260106T145253Z
LAST-MODIFIED:20260106T145253Z
UID:2506-1773824400-1774022400@betasoftware.co.za
SUMMARY:Arbutus Analyzer Plus - Advanced Training
DESCRIPTION:rbutus Certified Trainer: Anton Bouwer / Thomas Janse van Rensburg \nKey Objectives for this Arbutus Analyzer Advance course: \nFocus on Functions \n\nAdvanced functions such as MASK\, FUZZY\, NORMALIZE\, OFFSET\, RECOFFSET etc\nAdvanced field settings such as STATIC\, OFFSET\, CONDITION\, HIDDEN etc\n\nScripting \n\nBasics of programming\nSetting the environment\nUsing variables\nProcedures and sub-procedures\nCommands only available in scripts\nAutomating procedures\nScheduling procedures\n\nWorkflows \n\nAdvanced Workflow creation\nCalling workflows from scripts\nSharing workflows\n\nApplication development \n\nUsing dialogs in scripts\nError trapping\nUser interface development\nEnsuring stability\nProtecting applications\nChange control.\nApplication distribution\n\nPlease complete this form to reserve your place on this training event.Please enable JavaScript in your browser to complete this form.Please enable JavaScript in your browser to complete this form.		\n			user? Name Company\n			\n		\n		Name *FirstLastCompany *Email *Contact Number *Are you an Arbutus user? *YesNoComment or MessageSubmit
URL:https://betasoftware.co.za/training/arbutus-analyzer-plus-advanced-training/
LOCATION:Teams Online Instructor Led\, South Africa
ORGANIZER;CN="Beta Software":MAILTO:Mandi.Bouwer@Betasoftware.co.za
END:VEVENT
END:VCALENDAR