BEGIN:VCALENDAR
VERSION:2.0
PRODID:-//Beta Software | Arbutus Analytics - ECPv6.8.2.1//NONSGML v1.0//EN
CALSCALE:GREGORIAN
METHOD:PUBLISH
X-ORIGINAL-URL:https://betasoftware.co.za
X-WR-CALDESC:Events for Beta Software | Arbutus Analytics
REFRESH-INTERVAL;VALUE=DURATION:PT1H
X-Robots-Tag:noindex
X-PUBLISHED-TTL:PT1H
BEGIN:VTIMEZONE
TZID:UTC
BEGIN:STANDARD
TZOFFSETFROM:+0000
TZOFFSETTO:+0000
TZNAME:UTC
DTSTART:20260101T000000
END:STANDARD
END:VTIMEZONE
BEGIN:VEVENT
DTSTART;TZID=UTC:20261111T090000
DTEND;TZID=UTC:20261113T160000
DTSTAMP:20260423T035007
CREATED:20260106T145026Z
LAST-MODIFIED:20260106T145026Z
UID:2501-1794387600-1794585600@betasoftware.co.za
SUMMARY:Arbutus Analyzer Plus Intermediate Training
DESCRIPTION:Arbutus Certified Trainer: Anton Bouwer / Thomas Janse van Rensburg \nKey Objectives for the Arbutus Analyzer Intermediate Online Training are: \n  \n\nDevelop your skills in devising an efficient data analysis plan to achieve your goals.\nRefresh your knowledge of and experience with basic Analyzer functionality .\nIdentify and apply the Analyzer functionality needed to achieve objectives.\nBreak analysis objectives into structured\, manageable steps.\nFamiliarize yourself with common data analysis tasks and scenarios.\n Identify and follow best practices.\n Create a procedure to automate analysis tests.\n\nPlease complete this form to reserve your place on this training event.Please enable JavaScript in your browser to complete this form.Please enable JavaScript in your browser to complete this form.Name *FirstLast		\n			Comment Arbutus an\n			\n		\n		Company *Email *Contact Number *Are you an Arbutus user? *YesNoComment or MessageSubmit
URL:https://betasoftware.co.za/training/arbutus-analyzer-plus-intermediate-training-14/
LOCATION:Teams Online Instructor Led\, South Africa
ORGANIZER;CN="Beta Software":MAILTO:Mandi.Bouwer@Betasoftware.co.za
END:VEVENT
BEGIN:VEVENT
DTSTART;TZID=UTC:20261118T090000
DTEND;TZID=UTC:20261120T160000
DTSTAMP:20260423T035007
CREATED:20260106T145823Z
LAST-MODIFIED:20260106T145823Z
UID:2518-1794992400-1795190400@betasoftware.co.za
SUMMARY:Arbutus Analyzer Plus - Advanced Training
DESCRIPTION:rbutus Certified Trainer: Anton Bouwer / Thomas Janse van Rensburg \nKey Objectives for this Arbutus Analyzer Advance course: \nFocus on Functions \n\nAdvanced functions such as MASK\, FUZZY\, NORMALIZE\, OFFSET\, RECOFFSET etc\nAdvanced field settings such as STATIC\, OFFSET\, CONDITION\, HIDDEN etc\n\nScripting \n\nBasics of programming\nSetting the environment\nUsing variables\nProcedures and sub-procedures\nCommands only available in scripts\nAutomating procedures\nScheduling procedures\n\nWorkflows \n\nAdvanced Workflow creation\nCalling workflows from scripts\nSharing workflows\n\nApplication development \n\nUsing dialogs in scripts\nError trapping\nUser interface development\nEnsuring stability\nProtecting applications\nChange control.\nApplication distribution\n\nPlease complete this form to reserve your place on this training event.Please enable JavaScript in your browser to complete this form.Please enable JavaScript in your browser to complete this form.		\n			you Email Are\n			\n		\n		Name *FirstLastCompany *Email *Contact Number *Are you an Arbutus user? *YesNoComment or MessageSubmit
URL:https://betasoftware.co.za/training/arbutus-analyzer-plus-advanced-training-7/
LOCATION:Teams Online Instructor Led\, South Africa
ORGANIZER;CN="Beta Software":MAILTO:Mandi.Bouwer@Betasoftware.co.za
END:VEVENT
END:VCALENDAR