BEGIN:VCALENDAR
VERSION:2.0
PRODID:-//Beta Software | Arbutus Analytics - ECPv6.8.2.1//NONSGML v1.0//EN
CALSCALE:GREGORIAN
METHOD:PUBLISH
X-WR-CALNAME:Beta Software | Arbutus Analytics
X-ORIGINAL-URL:https://betasoftware.co.za
X-WR-CALDESC:Events for Beta Software | Arbutus Analytics
REFRESH-INTERVAL;VALUE=DURATION:PT1H
X-Robots-Tag:noindex
X-PUBLISHED-TTL:PT1H
BEGIN:VTIMEZONE
TZID:UTC
BEGIN:STANDARD
TZOFFSETFROM:+0000
TZOFFSETTO:+0000
TZNAME:UTC
DTSTART:20230101T000000
END:STANDARD
TZID:Europe/Helsinki
BEGIN:DAYLIGHT
TZOFFSETFROM:+0200
TZOFFSETTO:+0300
TZNAME:EEST
DTSTART:20240331T010000
END:DAYLIGHT
BEGIN:STANDARD
TZOFFSETFROM:+0300
TZOFFSETTO:+0200
TZNAME:EET
DTSTART:20241027T010000
END:STANDARD
END:VTIMEZONE
BEGIN:VEVENT
DTSTART;VALUE=DATE:20240828
DTEND;VALUE=DATE:20240831
DTSTAMP:20260422T225325
CREATED:20240816T112249Z
LAST-MODIFIED:20240816T112249Z
UID:2292-1724803200-1725062399@betasoftware.co.za
SUMMARY:Arbutus Analyzer Plus Advance Training
DESCRIPTION:Arbutus Certified Trainer: Anton Bouwer \nKey Objectives for this Arbutus Analyzer Advance course: \nFocus on Functions \n\nAdvanced functions such as MASK\, FUZZY\, NORMALIZE\, OFFSET\, RECOFFSET etc\nAdvanced field settings such as STATIC\, OFFSET\, CONDITION\, HIDDEN etc\n\nScripting \n\nBasics of programming\nSetting the environment\nUsing variables\nProcedures and sub-procedures\nCommands only available in scripts\nAutomating procedures\nScheduling procedures\n\nWorkflows \n\nAdvanced Workflow creation\nCalling workflows from scripts\nSharing workflows\n\nApplication development \n\nUsing dialogs in scripts\nError trapping\nUser interface development\nEnsuring stability\nProtecting applications\nChange control.\nApplication distribution
URL:https://betasoftware.co.za/training/arbutus-analyzer-plus-advance-training/
END:VEVENT
BEGIN:VEVENT
DTSTART;VALUE=DATE:20240828
DTEND;VALUE=DATE:20240831
DTSTAMP:20260422T225325
CREATED:20240816T110000Z
LAST-MODIFIED:20240816T110000Z
UID:2281-1724803200-1725062399@betasoftware.co.za
SUMMARY:Arbutus Analyzer Plus Intermediate Training
DESCRIPTION:Certified Arbutus Trainer – Kevesh Moodley \nKey Objectives for the Arbutus Analyzer Intermediate Online Training are: \n  \n\nDevelop your skills in devising an efficient data analysis plan to achieve your goals.\nRefresh your knowledge of and experience with basic Analyzer functionality .\nIdentify and apply the Analyzer functionality needed to achieve objectives.\nBreak analysis objectives into structured\, manageable steps.\nFamiliarize yourself with common data analysis tasks and scenarios.\n Identify and follow best practices.\n Create a procedure to automate analysis tests.\n\nDescription of the program and its benefits
URL:https://betasoftware.co.za/training/arbutus-analyzer-plus-intermediate-training/
END:VEVENT
BEGIN:VEVENT
DTSTART;VALUE=DATE:20240821
DTEND;VALUE=DATE:20240824
DTSTAMP:20260422T225325
CREATED:20240816T094511Z
LAST-MODIFIED:20240816T100320Z
UID:2272-1724198400-1724457599@betasoftware.co.za
SUMMARY:Arbutus Analyzer Plus Introductory Training
DESCRIPTION:Certified Arbutus Trainer: Kevesh Moodley \n\nOverview of Arbutus Analyzer commands and functions\nUsing Arbutus to find duplicates and gaps.\nUsing quick filters and SmartSearch\nUsing date and financial functions\nComparing data tables\nRelating and joining data tables\nImporting and exporting any type of data and tables\nUsing Arbutus LowCode/NoCode workflow automation\nAudit sampling\nAdvanced pivot tables\nGraphical reporting\nHow to implement continuous auditing/monitoring\n\nTo reserve your spot\, please contact me at Mandi.Bouwer@Betasoftware.co.za.\nThe registration deadline closes 3 days before the starting date. As seats are limited to 15 attendees\, we encourage you to secure your spot at the earliest convenience.\nShould you require any further information or have specific questions regarding the training program\, please do not hesitate to contact our dedicated team.
URL:https://betasoftware.co.za/training/arbutus-analyzer-plus-introductory-training/
ORGANIZER;CN="Beta Software":MAILTO:Mandi.Bouwer@Betasoftware.co.za
END:VEVENT
BEGIN:VEVENT
DTSTART;VALUE=DATE:20240724
DTEND;VALUE=DATE:20240727
DTSTAMP:20260422T225325
CREATED:20240220T103642Z
LAST-MODIFIED:20240723T170832Z
UID:2214-1721779200-1722038399@betasoftware.co.za
SUMMARY:Introductory Arbutus Analyzer
DESCRIPTION:Certified Arbutus Trainer: Kevesh Moodley \n\nOverview of Arbutus Analyzer commands and functions\nUsing Arbutus to find duplicates and gaps.\nUsing quick filters and SmartSearch\nUsing date and financial functions\nComparing data tables\nRelating and joining data tables\nImporting and exporting any type of data and tables\nUsing Arbutus LowCode/NoCode workflow automation\nAudit sampling\nAdvanced pivot tables\nGraphical reporting\nHow to implement continuous auditing/monitoring\n\nTo reserve your spot\, please contact me at Mandi.Bouwer@Betasoftware.co.za.\nThe registration deadline closes 3 days before the starting date. As seats are limited to 15 attendees\, we encourage you to secure your spot at the earliest convenience.\nShould you require any further information or have specific questions regarding the training program\, please do not hesitate to contact our dedicated team.
URL:https://betasoftware.co.za/training/introductory-arbutus-analyzer-3/
CATEGORIES:Introductory training
END:VEVENT
BEGIN:VEVENT
DTSTART;VALUE=DATE:20240626
DTEND;VALUE=DATE:20240629
DTSTAMP:20260422T225325
CREATED:20240220T104503Z
LAST-MODIFIED:20240723T170330Z
UID:2230-1719360000-1719619199@betasoftware.co.za
SUMMARY:Advance Arbutus Analyzer
DESCRIPTION:Certified Arbutus Trainer: Anton Bouwer \nThis training is suitable for data analysts who have at least 6 months data analytical experience and are comfortable learning advanced techniques and programming languages. \nKey Objectives for this Arbutus Analyzer Advance course: \n\nFocus on Functions\nAdvanced functions such as MASK\, FUZZY\, NORMALIZE\, OFFSET\, RECOFFSET etc\nAdvanced field settings such as STATIC\, OFFSET\, CONDITION\, HIDDEN etc\nScripting\nBasics of programming\nSetting the environment\nUsing variables\nProcedures and sub-procedures\nCommands only available in scripts\nAutomating procedures\nScheduling procedures\nWorkflows\nAdvanced Workflow creation\nCalling workflows from scripts\nSharing workflows\nApplication development\nUsing dialogs in scripts\nError trapping\nUser interface development\nEnsuring stability\nProtecting applications\nChange control.\nApplication distribution\n\nTo reserve your spot\, please contact me at Mandi.Bouwer@Betasoftware.co.za.\nThe registration deadline closes 3 days before the starting date. As seats are limited to 15 attendees\, we encourage you to secure your spot at the earliest convenience.\nShould you require any further information or have specific questions regarding the training program\, please do not hesitate to contact our dedicated team.
URL:https://betasoftware.co.za/training/advance-arbutus-analyzer-3/
CATEGORIES:Advanced training
END:VEVENT
BEGIN:VEVENT
DTSTART;VALUE=DATE:20240626
DTEND;VALUE=DATE:20240629
DTSTAMP:20260422T225325
CREATED:20240220T104234Z
LAST-MODIFIED:20240220T104622Z
UID:2224-1719360000-1719619199@betasoftware.co.za
SUMMARY:Intermediate Arbutus Analyzer
DESCRIPTION:Certified Arbutus Trainer: Kevesh Moodley \nKey Objectives for the Arbutus Analyzer Intermediate Online Training are: \n\nDevelop your skills in devising an efficient data analysis plan to achieve your goals.\nRefresh your knowledge of and experience with basic Analyzer functionality .\nIdentify and apply the Analyzer functionality needed to achieve objectives.\nBreak analysis objectives into structured\, manageable steps.\nFamiliarize yourself with common data analysis tasks and scenarios.\n Identify and follow best practices.\n Create a procedure to automate analysis tests.\nDescription of the program and its benefits.\n\nTo reserve your spot\, please contact me at Mandi.Bouwer@Betasoftware.co.za.\nThe registration deadline closes 3 days before the starting date. As seats are limited to 15 attendees\, we encourage you to secure your spot at the earliest convenience.\nShould you require any further information or have specific questions regarding the training program\, please do not hesitate to contact our dedicated team.
URL:https://betasoftware.co.za/training/intermediate-arbutus-analyzer-3/
END:VEVENT
BEGIN:VEVENT
DTSTART;VALUE=DATE:20240529
DTEND;VALUE=DATE:20240801
DTSTAMP:20260422T225325
CREATED:20240220T104447Z
LAST-MODIFIED:20240220T104543Z
UID:2229-1716940800-1722470399@betasoftware.co.za
SUMMARY:Advance Arbutus Analyzer
DESCRIPTION:Certified Arbutus Trainer: Anton Bouwer \nThis training is suitable for data analysts who have at least 6 months data analytical experience and are comfortable learning advanced techniques and programming languages. \nKey Objectives for this Arbutus Analyzer Advance course: \n\nFocus on Functions\nAdvanced functions such as MASK\, FUZZY\, NORMALIZE\, OFFSET\, RECOFFSET etc\nAdvanced field settings such as STATIC\, OFFSET\, CONDITION\, HIDDEN etc\nScripting\nBasics of programming\nSetting the environment\nUsing variables\nProcedures and sub-procedures\nCommands only available in scripts\nAutomating procedures\nScheduling procedures\nWorkflows\nAdvanced Workflow creation\nCalling workflows from scripts\nSharing workflows\nApplication development\nUsing dialogs in scripts\nError trapping\nUser interface development\nEnsuring stability\nProtecting applications\nChange control.\nApplication distribution\n\nTo reserve your spot\, please contact me at Mandi.Bouwer@Betasoftware.co.za.\nThe registration deadline closes 3 days before the starting date. As seats are limited to 15 attendees\, we encourage you to secure your spot at the earliest convenience.\nShould you require any further information or have specific questions regarding the training program\, please do not hesitate to contact our dedicated team.
URL:https://betasoftware.co.za/training/advance-arbutus-analyzer-2/
END:VEVENT
BEGIN:VEVENT
DTSTART;VALUE=DATE:20240529
DTEND;VALUE=DATE:20240801
DTSTAMP:20260422T225325
CREATED:20240220T104206Z
LAST-MODIFIED:20240220T104628Z
UID:2223-1716940800-1722470399@betasoftware.co.za
SUMMARY:Intermediate Arbutus Analyzer
DESCRIPTION:Certified Arbutus Trainer: Kevesh Moodley \nKey Objectives for the Arbutus Analyzer Intermediate Online Training are: \n\nDevelop your skills in devising an efficient data analysis plan to achieve your goals.\nRefresh your knowledge of and experience with basic Analyzer functionality .\nIdentify and apply the Analyzer functionality needed to achieve objectives.\nBreak analysis objectives into structured\, manageable steps.\nFamiliarize yourself with common data analysis tasks and scenarios.\n Identify and follow best practices.\n Create a procedure to automate analysis tests.\nDescription of the program and its benefits.\n\nTo reserve your spot\, please contact me at Mandi.Bouwer@Betasoftware.co.za.\nThe registration deadline closes 3 days before the starting date. As seats are limited to 15 attendees\, we encourage you to secure your spot at the earliest convenience.\nShould you require any further information or have specific questions regarding the training program\, please do not hesitate to contact our dedicated team.
URL:https://betasoftware.co.za/training/intermediate-arbutus-analyzer-2/
END:VEVENT
BEGIN:VEVENT
DTSTART;VALUE=DATE:20240522
DTEND;VALUE=DATE:20240525
DTSTAMP:20260422T225325
CREATED:20240220T103619Z
LAST-MODIFIED:20240220T104632Z
UID:2213-1716336000-1716595199@betasoftware.co.za
SUMMARY:Introductory Arbutus Analyzer
DESCRIPTION:Certified Arbutus Trainer: Kevesh Moodley \n\nOverview of Arbutus Analyzer commands and functions\nUsing Arbutus to find duplicates and gaps.\nUsing quick filters and SmartSearch\nUsing date and financial functions\nComparing data tables\nRelating and joining data tables\nImporting and exporting any type of data and tables\nUsing Arbutus LowCode/NoCode workflow automation\nAudit sampling\nAdvanced pivot tables\nGraphical reporting\nHow to implement continuous auditing/monitoring\n\nTo reserve your spot\, please contact me at Mandi.Bouwer@Betasoftware.co.za.\nThe registration deadline closes 3 days before the starting date. As seats are limited to 15 attendees\, we encourage you to secure your spot at the earliest convenience.\nShould you require any further information or have specific questions regarding the training program\, please do not hesitate to contact our dedicated team.
URL:https://betasoftware.co.za/training/introductory-arbutus-analyzer-2/
END:VEVENT
BEGIN:VEVENT
DTSTART;VALUE=DATE:20240417
DTEND;VALUE=DATE:20240420
DTSTAMP:20260422T225325
CREATED:20240220T104432Z
LAST-MODIFIED:20240220T104546Z
UID:2228-1713312000-1713571199@betasoftware.co.za
SUMMARY:Advance Arbutus Analyzer
DESCRIPTION:Certified Arbutus Trainer: Anton Bouwer \nThis training is suitable for data analysts who have at least 6 months data analytical experience and are comfortable learning advanced techniques and programming languages. \nKey Objectives for this Arbutus Analyzer Advance course: \n\nFocus on Functions\nAdvanced functions such as MASK\, FUZZY\, NORMALIZE\, OFFSET\, RECOFFSET etc\nAdvanced field settings such as STATIC\, OFFSET\, CONDITION\, HIDDEN etc\nScripting\nBasics of programming\nSetting the environment\nUsing variables\nProcedures and sub-procedures\nCommands only available in scripts\nAutomating procedures\nScheduling procedures\nWorkflows\nAdvanced Workflow creation\nCalling workflows from scripts\nSharing workflows\nApplication development\nUsing dialogs in scripts\nError trapping\nUser interface development\nEnsuring stability\nProtecting applications\nChange control.\nApplication distribution\n\nTo reserve your spot\, please contact me at Mandi.Bouwer@Betasoftware.co.za.\nThe registration deadline closes 3 days before the starting date. As seats are limited to 15 attendees\, we encourage you to secure your spot at the earliest convenience.\nShould you require any further information or have specific questions regarding the training program\, please do not hesitate to contact our dedicated team.
URL:https://betasoftware.co.za/training/advance-arbutus-analyzer/
END:VEVENT
BEGIN:VEVENT
DTSTART;VALUE=DATE:20240417
DTEND;VALUE=DATE:20240420
DTSTAMP:20260422T225325
CREATED:20240220T104140Z
LAST-MODIFIED:20240220T104637Z
UID:2222-1713312000-1713571199@betasoftware.co.za
SUMMARY:Intermediate Arbutus Analyzer
DESCRIPTION:Certified Arbutus Trainer: Kevesh Moodley \nKey Objectives for the Arbutus Analyzer Intermediate Online Training are: \n\nDevelop your skills in devising an efficient data analysis plan to achieve your goals.\nRefresh your knowledge of and experience with basic Analyzer functionality .\nIdentify and apply the Analyzer functionality needed to achieve objectives.\nBreak analysis objectives into structured\, manageable steps.\nFamiliarize yourself with common data analysis tasks and scenarios.\n Identify and follow best practices.\n Create a procedure to automate analysis tests.\nDescription of the program and its benefits.\n\nTo reserve your spot\, please contact me at Mandi.Bouwer@Betasoftware.co.za.\nThe registration deadline closes 3 days before the starting date. As seats are limited to 15 attendees\, we encourage you to secure your spot at the earliest convenience.\nShould you require any further information or have specific questions regarding the training program\, please do not hesitate to contact our dedicated team.
URL:https://betasoftware.co.za/training/intermediate-arbutus-analyzer/
END:VEVENT
BEGIN:VEVENT
DTSTART;VALUE=DATE:20240408
DTEND;VALUE=DATE:20240411
DTSTAMP:20260422T225325
CREATED:20240220T103551Z
LAST-MODIFIED:20240220T104641Z
UID:2212-1712534400-1712793599@betasoftware.co.za
SUMMARY:Introductory Arbutus Analyzer
DESCRIPTION:Certified Arbutus Trainer: Kevesh Moodley \n\nOverview of Arbutus Analyzer commands and functions\nUsing Arbutus to find duplicates and gaps.\nUsing quick filters and SmartSearch\nUsing date and financial functions\nComparing data tables\nRelating and joining data tables\nImporting and exporting any type of data and tables\nUsing Arbutus LowCode/NoCode workflow automation\nAudit sampling\nAdvanced pivot tables\nGraphical reporting\nHow to implement continuous auditing/monitoring\n\nTo reserve your spot\, please contact me at Mandi.Bouwer@Betasoftware.co.za.\nThe registration deadline closes 3 days before the starting date. As seats are limited to 15 attendees\, we encourage you to secure your spot at the earliest convenience.\nShould you require any further information or have specific questions regarding the training program\, please do not hesitate to contact our dedicated team.
URL:https://betasoftware.co.za/training/introductory-arbutus-analyzer/
END:VEVENT
BEGIN:VEVENT
DTSTART;VALUE=DATE:20231207
DTEND;VALUE=DATE:20231209
DTSTAMP:20260422T225325
CREATED:20230206T091225Z
LAST-MODIFIED:20230829T081743Z
UID:1979-1701907200-1702079999@betasoftware.co.za
SUMMARY:Arbutus Intermediate Training
DESCRIPTION:Certified Arbutus Trainer: Anton Bouwer
URL:https://betasoftware.co.za/training/arbutus-intermediate-training-5/
END:VEVENT
BEGIN:VEVENT
DTSTART;VALUE=DATE:20231123
DTEND;VALUE=DATE:20231125
DTSTAMP:20260422T225325
CREATED:20230826T094810Z
LAST-MODIFIED:20230829T081759Z
UID:2135-1700697600-1700870399@betasoftware.co.za
SUMMARY:Arbutus Intermediate Training
DESCRIPTION:Certified Arbutus Trainer: Anton Bouwer
URL:https://betasoftware.co.za/training/arbutus-intermediate-training-6/
END:VEVENT
BEGIN:VEVENT
DTSTART;VALUE=DATE:20231115
DTEND;VALUE=DATE:20231118
DTSTAMP:20260422T225325
CREATED:20230206T091140Z
LAST-MODIFIED:20230829T081816Z
UID:1975-1700006400-1700265599@betasoftware.co.za
SUMMARY:Arbutus Advanced Training
DESCRIPTION:Certified Arbutus Trainer: Anton Bouwer
URL:https://betasoftware.co.za/training/arbutus-advanced-training-10/
END:VEVENT
BEGIN:VEVENT
DTSTART;VALUE=DATE:20231108
DTEND;VALUE=DATE:20231111
DTSTAMP:20260422T225325
CREATED:20230206T091121Z
LAST-MODIFIED:20230829T081831Z
UID:1973-1699401600-1699660799@betasoftware.co.za
SUMMARY:Arbutus Intro Training
DESCRIPTION:Certified Arbutus Trainer: Kevesh Moodley
URL:https://betasoftware.co.za/training/arbutus-intro-training-8/
END:VEVENT
BEGIN:VEVENT
DTSTART;VALUE=DATE:20231025
DTEND;VALUE=DATE:20231028
DTSTAMP:20260422T225325
CREATED:20230206T091054Z
LAST-MODIFIED:20230829T081845Z
UID:1971-1698192000-1698451199@betasoftware.co.za
SUMMARY:Arbutus Intro Training
DESCRIPTION:Certified Arbutus Trainer: Kevesh Moodley
URL:https://betasoftware.co.za/training/arbutus-intro-training-7/
END:VEVENT
BEGIN:VEVENT
DTSTART;VALUE=DATE:20231018
DTEND;VALUE=DATE:20231021
DTSTAMP:20260422T225325
CREATED:20230206T091035Z
LAST-MODIFIED:20230829T081901Z
UID:1969-1697587200-1697846399@betasoftware.co.za
SUMMARY:Arbutus Advance Training
DESCRIPTION:Certified Arbutus Trainer: Anton Bouwer
URL:https://betasoftware.co.za/training/arbutus-advanced-training-9/
END:VEVENT
BEGIN:VEVENT
DTSTART;VALUE=DATE:20231005
DTEND;VALUE=DATE:20231007
DTSTAMP:20260422T225325
CREATED:20230206T091018Z
LAST-MODIFIED:20230829T081927Z
UID:1967-1696464000-1696636799@betasoftware.co.za
SUMMARY:Arbutus Intermediate Training
DESCRIPTION:Certified Arbutus Trainer: Anton Bouwer
URL:https://betasoftware.co.za/training/arbutus-intermediate-online-4/
END:VEVENT
BEGIN:VEVENT
DTSTART;VALUE=DATE:20230827
DTEND;VALUE=DATE:20230829
DTSTAMP:20260422T225325
CREATED:20230808T092449Z
LAST-MODIFIED:20230810T115202Z
UID:2091-1693094400-1693267199@betasoftware.co.za
SUMMARY:Arbutus Intermediate Training
DESCRIPTION:
URL:https://betasoftware.co.za/training/arbutus-training-2/
END:VEVENT
BEGIN:VEVENT
DTSTART;VALUE=DATE:20230821
DTEND;VALUE=DATE:20230824
DTSTAMP:20260422T225325
CREATED:20230808T092358Z
LAST-MODIFIED:20230810T115151Z
UID:2089-1692576000-1692835199@betasoftware.co.za
SUMMARY:Arbutus Intro Training
DESCRIPTION:
URL:https://betasoftware.co.za/training/arbutus-training/
END:VEVENT
BEGIN:VEVENT
DTSTART;TZID=UTC:20230802T080000
DTEND;TZID=UTC:20230803T170000
DTSTAMP:20260422T225325
CREATED:20230206T090746Z
LAST-MODIFIED:20230829T081939Z
UID:1955-1690963200-1691082000@betasoftware.co.za
SUMMARY:Arbutus Intermediate Training
DESCRIPTION:
URL:https://betasoftware.co.za/training/arbutus-intermediate-training-online-3/
END:VEVENT
BEGIN:VEVENT
DTSTART;TZID=UTC:20230727T080000
DTEND;TZID=UTC:20230728T170000
DTSTAMP:20260422T225325
CREATED:20230206T090721Z
LAST-MODIFIED:20230829T081952Z
UID:1953-1690444800-1690563600@betasoftware.co.za
SUMMARY:Arbutus Advanced Training
DESCRIPTION:
URL:https://betasoftware.co.za/training/arbutus-advanced-training-2/
END:VEVENT
BEGIN:VEVENT
DTSTART;VALUE=DATE:20230713
DTEND;VALUE=DATE:20230714
DTSTAMP:20260422T225325
CREATED:20230206T090701Z
LAST-MODIFIED:20230206T090701Z
UID:1951-1689206400-1689292799@betasoftware.co.za
SUMMARY:Arbutus Advanced Proc Training
DESCRIPTION:
URL:https://betasoftware.co.za/training/arbutus-advanced-proc-training-6/
END:VEVENT
BEGIN:VEVENT
DTSTART;TZID=UTC:20230705T080000
DTEND;TZID=UTC:20230707T170000
DTSTAMP:20260422T225325
CREATED:20230206T090647Z
LAST-MODIFIED:20230206T090647Z
UID:1949-1688544000-1688749200@betasoftware.co.za
SUMMARY:Arbutus Intro Training (Online)
DESCRIPTION:
URL:https://betasoftware.co.za/training/arbutus-intro-training-online-4/
END:VEVENT
BEGIN:VEVENT
DTSTART;TZID=UTC:20230626T080000
DTEND;TZID=UTC:20230627T160000
DTSTAMP:20260422T225325
CREATED:20230613T121819Z
LAST-MODIFIED:20230613T121819Z
UID:2080-1687766400-1687881600@betasoftware.co.za
SUMMARY:WINTER WARMER!!
DESCRIPTION:Time to let your Arbutus fire heat up this winter and take the opportunity to upskill your Arbutus Analyzer knowledge!!!\nBeta Software are pleased to invite you and your team to our upcoming Arbutus Analyzer Intermediate Online Training scheduled for 26th and 27th June 2023. \nThis training program is designed to further enhance your knowledge and skills in [mention the relevant subject or field]. Whether you are seeking to deepen your understanding or looking to refine your expertise\, this training will provide valuable insights and practical tools to help you excel in your professional endeavours. \nEvent Details:\n\nDate: 26th and 27th June 2023\nTime: 8-16:00 daily\nDuration: 2 days\nLocation: Online (Virtual platform details will be shared upon registration)\nCost: R6500.00 p/p for 2-day training.\n\nThis magnificent training will be conducted by Anton Bouwer – director Beta Software. \nKey Objectives for the 2-day Arbutus Analyzer Intermediate Online Training are: \n• Develop your skills in devising an efficient data analysis plan to achieve your goals\n• Refresh your knowledge of and experience with basic Analyzer functionality\n• Identify and apply the Analyzer functionality needed to achieve objectives\n• Break analysis objectives into structured\, manageable steps\n• Familiarize yourself with common data analysis tasks and scenarios\n• Identify and follow best practices\n• Create a procedure to automate analysis tests \nTo reserve your spot\, please contact me at Mandi.Bouwer@Betasoftware.co.za.\nThe registration deadline is Thursday 22 June 2023. As seats are limited\, we encourage you to secure your spot at the earliest convenience. \nShould you require any further information or have specific questions regarding the training program\, please do not hesitate to contact our dedicated team. \nWe look forward to your active participation in this Arbutus Analyzer Intermediate Online Training\, where we aim to provide you with a valuable learning experience that will contribute to your professional growth.
URL:https://betasoftware.co.za/training/winter-warmer/
ORGANIZER;CN="Beta Software":MAILTO:Mandi.Bouwer@Betasoftware.co.za
END:VEVENT
BEGIN:VEVENT
DTSTART;TZID=UTC:20230621T080000
DTEND;TZID=UTC:20230623T170000
DTSTAMP:20260422T225325
CREATED:20230206T090625Z
LAST-MODIFIED:20230206T090625Z
UID:1947-1687334400-1687539600@betasoftware.co.za
SUMMARY:Arbutus Intro Training (Online)
DESCRIPTION:
URL:https://betasoftware.co.za/training/arbutus-intro-training-online-3/
END:VEVENT
BEGIN:VEVENT
DTSTART;VALUE=DATE:20230601
DTEND;VALUE=DATE:20230602
DTSTAMP:20260422T225325
CREATED:20230206T090609Z
LAST-MODIFIED:20230206T090609Z
UID:1945-1685577600-1685663999@betasoftware.co.za
SUMMARY:Arbutus Advanced Proc Training
DESCRIPTION:
URL:https://betasoftware.co.za/training/arbutus-advanced-proc-training-5/
END:VEVENT
BEGIN:VEVENT
DTSTART;TZID=UTC:20230525T080000
DTEND;TZID=UTC:20230526T170000
DTSTAMP:20260422T225325
CREATED:20230206T090552Z
LAST-MODIFIED:20230206T090552Z
UID:1943-1685001600-1685120400@betasoftware.co.za
SUMMARY:Arbutus Intermediate Training (Online)
DESCRIPTION:
URL:https://betasoftware.co.za/training/arbutus-intermediate-training-online-2/
END:VEVENT
BEGIN:VEVENT
DTSTART;VALUE=DATE:20230516
DTEND;VALUE=DATE:20230517
DTSTAMP:20260422T225325
CREATED:20230206T090530Z
LAST-MODIFIED:20230206T090530Z
UID:1941-1684195200-1684281599@betasoftware.co.za
SUMMARY:Arbutus Advanced Proc Training
DESCRIPTION:
URL:https://betasoftware.co.za/training/arbutus-advanced-proc-training-4/
END:VEVENT
END:VCALENDAR