BEGIN:VCALENDAR
VERSION:2.0
PRODID:-//Beta Software | Arbutus Analytics - ECPv6.8.2.1//NONSGML v1.0//EN
CALSCALE:GREGORIAN
METHOD:PUBLISH
X-WR-CALNAME:Beta Software | Arbutus Analytics
X-ORIGINAL-URL:https://betasoftware.co.za
X-WR-CALDESC:Events for Beta Software | Arbutus Analytics
REFRESH-INTERVAL;VALUE=DURATION:PT1H
X-Robots-Tag:noindex
X-PUBLISHED-TTL:PT1H
BEGIN:VTIMEZONE
TZID:UTC
BEGIN:STANDARD
TZOFFSETFROM:+0000
TZOFFSETTO:+0000
TZNAME:UTC
DTSTART:20260101T000000
END:STANDARD
END:VTIMEZONE
BEGIN:VEVENT
DTSTART;TZID=UTC:20260513T090000
DTEND;TZID=UTC:20260515T160000
DTSTAMP:20260422T115042
CREATED:20260106T135832Z
LAST-MODIFIED:20260106T143508Z
UID:2457-1778662800-1778860800@betasoftware.co.za
SUMMARY:Arbutus Analyzer Plus - Introductory Training
DESCRIPTION:Certified Arbutus Trainer: Rodney Smith / Thomas Janse van Rensburg / Mandi Bouwer \n\nOverview of Arbutus Analyzer commands and functions\nUsing Arbutus to find duplicates and gaps.\nUsing quick filters and SmartSearch\nUsing date and financial functions\nComparing data tables\nRelating and joining data tables\nImporting and exporting any type of data and tables\nUsing Arbutus LowCode/NoCode workflow automation\nAudit sampling\nAdvanced pivot tables\nGraphical reporting\nHow to implement continuous auditing/monitoring\n\nTo reserve your spot\, please contact me at Mandi.Bouwer@Betasoftware.co.za.\nThe registration deadline closes 3 days before the starting date. As seats are limited to 15 attendees\, we encourage you to secure your spot at the earliest convenience.\nShould you require any further information or have specific questions regarding the training program\, please do not hesitate to contact our dedicated team. \nPlease complete this form to reserve your place on this training event.Please enable JavaScript in your browser to complete this form.Please enable JavaScript in your browser to complete this form.Name *FirstLastCompany *Email *		\n			Are Name or\n			\n		\n		Contact Number *Are you an Arbutus user? *YesNoComment or MessageSubmit
URL:https://betasoftware.co.za/training/arbutus-analyzer-introductory-training-2/
LOCATION:Teams Online Instructor Led\, South Africa
ORGANIZER;CN="Beta Software":MAILTO:Mandi.Bouwer@Betasoftware.co.za
END:VEVENT
END:VCALENDAR