BEGIN:VCALENDAR
VERSION:2.0
PRODID:-//Beta Software | Arbutus Analytics - ECPv6.8.2.1//NONSGML v1.0//EN
CALSCALE:GREGORIAN
METHOD:PUBLISH
X-ORIGINAL-URL:https://betasoftware.co.za
X-WR-CALDESC:Events for Beta Software | Arbutus Analytics
REFRESH-INTERVAL;VALUE=DURATION:PT1H
X-Robots-Tag:noindex
X-PUBLISHED-TTL:PT1H
BEGIN:VTIMEZONE
TZID:UTC
BEGIN:STANDARD
TZOFFSETFROM:+0000
TZOFFSETTO:+0000
TZNAME:UTC
DTSTART:20260101T000000
END:STANDARD
END:VTIMEZONE
BEGIN:VEVENT
DTSTART;TZID=UTC:20260225T090000
DTEND;TZID=UTC:20260227T160000
DTSTAMP:20260422T131004
CREATED:20260106T145158Z
LAST-MODIFIED:20260106T145208Z
UID:2503-1772010000-1772208000@betasoftware.co.za
SUMMARY:Arbutus Analyzer Plus - Advanced Training
DESCRIPTION:rbutus Certified Trainer: Anton Bouwer / Thomas Janse van Rensburg \nKey Objectives for this Arbutus Analyzer Advance course: \nFocus on Functions \n\nAdvanced functions such as MASK\, FUZZY\, NORMALIZE\, OFFSET\, RECOFFSET etc\nAdvanced field settings such as STATIC\, OFFSET\, CONDITION\, HIDDEN etc\n\nScripting \n\nBasics of programming\nSetting the environment\nUsing variables\nProcedures and sub-procedures\nCommands only available in scripts\nAutomating procedures\nScheduling procedures\n\nWorkflows \n\nAdvanced Workflow creation\nCalling workflows from scripts\nSharing workflows\n\nApplication development \n\nUsing dialogs in scripts\nError trapping\nUser interface development\nEnsuring stability\nProtecting applications\nChange control.\nApplication distribution\n\nPlease complete this form to reserve your place on this training event.Please enable JavaScript in your browser to complete this form.Please enable JavaScript in your browser to complete this form.Name *FirstLast		\n			Name Message Comment\n			\n		\n		Company *Email *Contact Number *Are you an Arbutus user? *YesNoComment or MessageSubmit
URL:https://betasoftware.co.za/training/arbutus-analyzer-advanced-training/
LOCATION:Teams Online Instructor Led\, South Africa
ORGANIZER;CN="Beta Software":MAILTO:Mandi.Bouwer@Betasoftware.co.za
END:VEVENT
END:VCALENDAR